BEGIN:VCALENDAR
VERSION:2.0
PRODID:-//Plone.org//NONSGML plone.app.event//EN
X-WR-TIMEZONE:Europe/Madrid
BEGIN:VEVENT
SUMMARY:Consell de Govern
DTSTART;TZID=Europe/Madrid:20130424T000000
DTEND;TZID=Europe/Madrid:20130424T000000
DTSTAMP:20260426T063904Z
UID:e6abc5c1-7df2-45d5-b521-bd5037ac20df@peter2pre.upc.edu:11004
CREATED:20130409T143600Z
LAST-MODIFIED:20130423T082200Z
URL:https://comitepasl.upc.edu/ca/esdeveniments/consell-de-govern
END:VEVENT
BEGIN:VTIMEZONE
TZID:Europe/Madrid
X-LIC-LOCATION:Europe/Madrid
BEGIN:DAYLIGHT
DTSTART:20130331T030000
TZNAME:CEST
TZOFFSETFROM:+0100
TZOFFSETTO:+0200
END:DAYLIGHT
END:VTIMEZONE
END:VCALENDAR
