BEGIN:VCALENDAR
VERSION:2.0
PRODID:-//Plone.org//NONSGML plone.app.event//EN
X-WR-TIMEZONE:Europe/Madrid
BEGIN:VEVENT
SUMMARY:Assemblea FN
DTSTART;TZID=Europe/Madrid:20111201T123000
DTEND;TZID=Europe/Madrid:20111201T140000
DTSTAMP:20260420T075309Z
UID:61243d06-7b05-42e2-b923-5b1e3a9f78ba@peter2pre.upc.edu:11004
CREATED:20111128T151900Z
DESCRIPTION:Assamblees CEPASL
LAST-MODIFIED:20111128T151900Z
LOCATION:Sala de Juntes
URL:https://comitepasl.upc.edu/ca/esdeveniments/assemblea-fn
END:VEVENT
BEGIN:VTIMEZONE
TZID:Europe/Madrid
X-LIC-LOCATION:Europe/Madrid
BEGIN:STANDARD
DTSTART:20111030T020000
TZNAME:CET
TZOFFSETFROM:+0200
TZOFFSETTO:+0100
END:STANDARD
END:VTIMEZONE
END:VCALENDAR
