BEGIN:VCALENDAR
VERSION:2.0
PRODID:-//Plone.org//NONSGML plone.app.event//EN
X-WR-TIMEZONE:Europe/Madrid
BEGIN:VEVENT
SUMMARY:Assemblea EET (+coord. campus i bliblio)
DTSTART;TZID=Europe/Madrid:20111129T123000
DTEND;TZID=Europe/Madrid:20111129T140000
DTSTAMP:20260425T233649Z
UID:5c650304-eded-4c8b-b1cf-69c1c86cfd0b@peter2pre.upc.edu:11004
CREATED:20111128T140400Z
DESCRIPTION:Assemblees CEPASL Campus Terrassa
LAST-MODIFIED:20111128T151000Z
LOCATION:Sala de Conferències
URL:https://comitepasl.upc.edu/ca/esdeveniments/assemblea-ett
END:VEVENT
BEGIN:VTIMEZONE
TZID:Europe/Madrid
X-LIC-LOCATION:Europe/Madrid
BEGIN:STANDARD
DTSTART:20111030T020000
TZNAME:CET
TZOFFSETFROM:+0200
TZOFFSETTO:+0100
END:STANDARD
END:VTIMEZONE
END:VCALENDAR
