BEGIN:VCALENDAR
VERSION:2.0
PRODID:-//Plone.org//NONSGML plone.app.event//EN
X-WR-TIMEZONE:Europe/Madrid
BEGIN:VEVENT
SUMMARY:Assemblea ETSEIB
DTSTART;TZID=Europe/Madrid:20111123T100000
DTEND;TZID=Europe/Madrid:20111123T120000
DTSTAMP:20260425T233648Z
UID:73b9060d-e428-4576-a3d3-1e9c1fc3c58a@peter2pre.upc.edu:11004
CREATED:20111128T140400Z
DESCRIPTION:Assamblees CEPASL Campus Sud
LAST-MODIFIED:20111128T150800Z
LOCATION:Aula Capella
URL:https://comitepasl.upc.edu/ca/esdeveniments/assemblea-etseib
END:VEVENT
BEGIN:VTIMEZONE
TZID:Europe/Madrid
X-LIC-LOCATION:Europe/Madrid
BEGIN:STANDARD
DTSTART:20111030T020000
TZNAME:CET
TZOFFSETFROM:+0200
TZOFFSETTO:+0100
END:STANDARD
END:VTIMEZONE
END:VCALENDAR
