BEGIN:VCALENDAR
VERSION:2.0
PRODID:-//Plone.org//NONSGML plone.app.event//EN
X-WR-TIMEZONE:Europe/Madrid
BEGIN:VEVENT
SUMMARY:Convocatòria assemblea mobilització Campus Nord
DTSTART;TZID=Europe/Madrid:20130412T120000
DTEND;TZID=Europe/Madrid:20130412T140000
DTSTAMP:20260420T061527Z
UID:022cede7-7d21-49d0-9ca6-41abe6c11af4@peter2pre.upc.edu:11004
CREATED:20111128T140400Z
DESCRIPTION:Assamblees CEPASL Campus Nord
LAST-MODIFIED:20130410T123200Z
LOCATION:Sala d'Actes de l’edifici Vèrtex
URL:https://comitepasl.upc.edu/ca/esdeveniments/copy_of_assemblea-vx
END:VEVENT
BEGIN:VEVENT
SUMMARY:Assemblea ETSAB
DTSTART;TZID=Europe/Madrid:20111123T123000
DTEND;TZID=Europe/Madrid:20111123T140000
DTSTAMP:20260420T061527Z
UID:280d8e1a-879c-436d-a434-210f60ca17e6@peter2pre.upc.edu:11004
CREATED:20111128T140400Z
DESCRIPTION:Assamblees CEPASL Campus Sud
LAST-MODIFIED:20111128T150900Z
LOCATION:Aula C-S2 edifici Coderch
URL:https://comitepasl.upc.edu/ca/esdeveniments/assemblea-etsab
END:VEVENT
BEGIN:VEVENT
SUMMARY:Convocatòria assemblea mobilització Campus Nord
DTSTART;TZID=Europe/Madrid:20130410T120000
DTEND;TZID=Europe/Madrid:20130410T140000
DTSTAMP:20260420T061527Z
UID:813818fe-6b20-4a63-adde-a96f4f8651e1@peter2pre.upc.edu:11004
CREATED:20111128T140400Z
DESCRIPTION:Assamblees CEPASL Campus Nord
LAST-MODIFIED:20130408T083900Z
LOCATION:Sala d'Actes de l’edifici Vèrtex
URL:https://comitepasl.upc.edu/ca/esdeveniments/assemblea-vx
END:VEVENT
BEGIN:VEVENT
SUMMARY:Convocatòria assemblea mobilització Sant Cugat
DTSTART;TZID=Europe/Madrid:20130409T123000
DTEND;TZID=Europe/Madrid:20130409T140000
DTSTAMP:20260420T061528Z
UID:e7deb1e9-1085-440f-8268-5b4d9595fcbb@peter2pre.upc.edu:11004
CREATED:20111128T140400Z
DESCRIPTION:Assamblees CEPASL Campus Sant Cugat
LAST-MODIFIED:20130408T083700Z
LOCATION:Sala d’Actes ETSAV
URL:https://comitepasl.upc.edu/ca/esdeveniments/assemblea-etsav
END:VEVENT
BEGIN:VEVENT
SUMMARY:Convocatòria assemblea mobilització Terrassa
DTSTART;TZID=Europe/Madrid:20130408T121500
DTEND;TZID=Europe/Madrid:20130408T140000
DTSTAMP:20260420T061528Z
UID:44caa748-e76e-4d52-9c7c-ddb1aaec00b7@peter2pre.upc.edu:11004
CREATED:20111128T140400Z
DESCRIPTION:Assemblees CEPASL Campus Terrassa
LAST-MODIFIED:20130408T083100Z
LOCATION:Sala d’Actes ETSEIAT
URL:https://comitepasl.upc.edu/ca/esdeveniments/assemblea-etseiat
END:VEVENT
BEGIN:VEVENT
SUMMARY:Assemblea ETSEIB
DTSTART;TZID=Europe/Madrid:20111123T100000
DTEND;TZID=Europe/Madrid:20111123T120000
DTSTAMP:20260420T061528Z
UID:73b9060d-e428-4576-a3d3-1e9c1fc3c58a@peter2pre.upc.edu:11004
CREATED:20111128T140400Z
DESCRIPTION:Assamblees CEPASL Campus Sud
LAST-MODIFIED:20111128T150800Z
LOCATION:Aula Capella
URL:https://comitepasl.upc.edu/ca/esdeveniments/assemblea-etseib
END:VEVENT
BEGIN:VEVENT
SUMMARY:Assemblea ETSECCPB
DTSTART;TZID=Europe/Madrid:20111213T123000
DTEND;TZID=Europe/Madrid:20111213T140000
DTSTAMP:20260420T061528Z
UID:1bbfe7c1-3a60-47e3-8d51-5c8b694a1e3c@peter2pre.upc.edu:11004
CREATED:20111128T140400Z
DESCRIPTION:Assamblees CEPASL Campus Nord
LAST-MODIFIED:20111213T121300Z
URL:https://comitepasl.upc.edu/ca/esdeveniments/assemblea-etseccpb
END:VEVENT
BEGIN:VEVENT
SUMMARY:Assemblea ETSETB
DTSTART;TZID=Europe/Madrid:20111122T123000
DTEND;TZID=Europe/Madrid:20111122T140000
DTSTAMP:20260420T061528Z
UID:443a698b-e935-4e20-822a-ae1aac638840@peter2pre.upc.edu:11004
CREATED:20111128T140400Z
DESCRIPTION:Assemblees CEPASL Campus Nord
LAST-MODIFIED:20111128T151000Z
LOCATION:Aula Teleensenyament edifici B3 planta 1
URL:https://comitepasl.upc.edu/ca/esdeveniments/assemblea-etsetb
END:VEVENT
BEGIN:VEVENT
SUMMARY:Assemblea EET (+coord. campus i bliblio)
DTSTART;TZID=Europe/Madrid:20111129T123000
DTEND;TZID=Europe/Madrid:20111129T140000
DTSTAMP:20260420T061528Z
UID:5c650304-eded-4c8b-b1cf-69c1c86cfd0b@peter2pre.upc.edu:11004
CREATED:20111128T140400Z
DESCRIPTION:Assemblees CEPASL Campus Terrassa
LAST-MODIFIED:20111128T151000Z
LOCATION:Sala de Conferències
URL:https://comitepasl.upc.edu/ca/esdeveniments/assemblea-ett
END:VEVENT
BEGIN:VEVENT
SUMMARY:Assemblea FME
DTSTART;TZID=Europe/Madrid:20111215T123000
DTEND;TZID=Europe/Madrid:20111215T140000
DTSTAMP:20260420T061528Z
UID:ee703aad-07fb-455e-8701-2e3d6b7cc0be@peter2pre.upc.edu:11004
CREATED:20111128T140400Z
DESCRIPTION:Assamblees CEPASL Campus Sud
LAST-MODIFIED:20111213T121600Z
LOCATION:Sala de Graus planta baixa
URL:https://comitepasl.upc.edu/ca/esdeveniments/assemblea-fme
END:VEVENT
BEGIN:VEVENT
SUMMARY:Assemblea EPSEB
DTSTART;TZID=Europe/Madrid:20111215T100000
DTEND;TZID=Europe/Madrid:20111215T120000
DTSTAMP:20260420T061528Z
UID:c4251df1-24b7-46fd-a035-f2b403f3bf0e@peter2pre.upc.edu:11004
CREATED:20111128T140400Z
DESCRIPTION:Assamblees CEPASL Campus Sud
LAST-MODIFIED:20111213T121500Z
LOCATION:Sala de Graus planta baixa
URL:https://comitepasl.upc.edu/ca/esdeveniments/assemblea-epseb
END:VEVENT
BEGIN:VEVENT
SUMMARY:Convocatòria assemblea mobilització Manresa
DTSTART;TZID=Europe/Madrid:20130409T100000
DTEND;TZID=Europe/Madrid:20130409T120000
DTSTAMP:20260420T061528Z
UID:feb8c6b5-da40-4e9e-851a-77b0ad34b886@peter2pre.upc.edu:11004
CREATED:20111128T140400Z
DESCRIPTION:Assamblees CEPASL Campus Manresa
LAST-MODIFIED:20130408T083400Z
LOCATION:Sala d’Actes EPSEM
URL:https://comitepasl.upc.edu/ca/esdeveniments/assemblea-epsem
END:VEVENT
BEGIN:VEVENT
SUMMARY:Assemblea FOOT
DTSTART;TZID=Europe/Madrid:20111129T100000
DTEND;TZID=Europe/Madrid:20111129T120000
DTSTAMP:20260420T061528Z
UID:04f99f95-ca7f-4e75-a5fa-641f28dd3fba@peter2pre.upc.edu:11004
CREATED:20111128T140400Z
DESCRIPTION:Assamblees CEPASL Campus Terrassa
LAST-MODIFIED:20111128T150900Z
LOCATION:Aula 1.1
URL:https://comitepasl.upc.edu/ca/esdeveniments/assemblea-foot
END:VEVENT
BEGIN:VEVENT
SUMMARY:Assemblea FIB
DTSTART;TZID=Europe/Madrid:20111213T100000
DTEND;TZID=Europe/Madrid:20111213T120000
DTSTAMP:20260420T061528Z
UID:12f296ef-817a-49e2-b9a5-4a53caab38cd@peter2pre.upc.edu:11004
CREATED:20111128T140400Z
DESCRIPTION:Assamblees CEPASL Campus Nord
LAST-MODIFIED:20111213T121200Z
URL:https://comitepasl.upc.edu/ca/esdeveniments/assemblea-fib
END:VEVENT
BEGIN:VEVENT
SUMMARY:Convocatòria assemblea mobilització Castelldefels
DTSTART;TZID=Europe/Madrid:20130411T093000
DTEND;TZID=Europe/Madrid:20130411T113000
DTSTAMP:20260420T061528Z
UID:b85d698b-a7e9-401e-84f3-22f866a86868@peter2pre.upc.edu:11004
CREATED:20111128T151400Z
DESCRIPTION:Assamblees CEPASL CBL
LAST-MODIFIED:20130408T084400Z
LOCATION:C4-001Pg
URL:https://comitepasl.upc.edu/ca/esdeveniments/assemblea-campus-baix-llob
 regat
END:VEVENT
BEGIN:VEVENT
SUMMARY:Assemblea CEIB
DTSTART;TZID=Europe/Madrid:20111201T100000
DTEND;TZID=Europe/Madrid:20111201T120000
DTSTAMP:20260420T061528Z
UID:547dd915-7524-4003-a922-775a8978020c@peter2pre.upc.edu:11004
CREATED:20111128T151800Z
DESCRIPTION:Assamblees CEPASL
LAST-MODIFIED:20111128T151800Z
LOCATION:Aula 27
URL:https://comitepasl.upc.edu/ca/esdeveniments/assemblea-ceib
END:VEVENT
BEGIN:VEVENT
SUMMARY:Assemblea FN
DTSTART;TZID=Europe/Madrid:20111201T123000
DTEND;TZID=Europe/Madrid:20111201T140000
DTSTAMP:20260420T061528Z
UID:61243d06-7b05-42e2-b923-5b1e3a9f78ba@peter2pre.upc.edu:11004
CREATED:20111128T151900Z
DESCRIPTION:Assamblees CEPASL
LAST-MODIFIED:20111128T151900Z
LOCATION:Sala de Juntes
URL:https://comitepasl.upc.edu/ca/esdeveniments/assemblea-fn
END:VEVENT
BEGIN:VEVENT
SUMMARY:Convocatòria assemblea mobilització Vilanova
DTSTART;TZID=Europe/Madrid:20130411T123000
DTEND;TZID=Europe/Madrid:20130411T140000
DTSTAMP:20260420T061528Z
UID:aaca44f2-eb52-488b-ad40-2ae28ea0371b@peter2pre.upc.edu:11004
CREATED:20111128T151600Z
DESCRIPTION:Assamblees CEPASL Vilanova
LAST-MODIFIED:20130408T084700Z
LOCATION:AA201 2n pis
URL:https://comitepasl.upc.edu/ca/esdeveniments/assemblea-etsevg
END:VEVENT
BEGIN:VEVENT
SUMMARY:Informació de Convocatòries d’assemblees del PDI
DTSTART;TZID=Europe/Madrid:20111215T110000
DTEND;TZID=Europe/Madrid:20111215T160000
DTSTAMP:20260420T061528Z
UID:6b364ec1-0581-4675-a557-2e60d23dea8b@peter2pre.upc.edu:11004
CREATED:20111214T122100Z
DESCRIPTION:Escrit que ens han enviat des de la Junta de PDI i el CPDIL
LAST-MODIFIED:20111214T122100Z
URL:https://comitepasl.upc.edu/ca/esdeveniments/informacio-de-convocatorie
 s-d2019assemblees-del-pdi
END:VEVENT
BEGIN:VEVENT
SUMMARY:Convocatòria concentració 16D
DTSTART;TZID=Europe/Madrid:20111216T093000
DTEND;TZID=Europe/Madrid:20111216T120000
DTSTAMP:20260420T061528Z
UID:00fe23e5-5286-4b48-aa7c-9a36873db4b4@peter2pre.upc.edu:11004
CREATED:20111214T122400Z
DESCRIPTION:Protestar contra el Pla de Viabilitat Econòmica
LAST-MODIFIED:20111214T122400Z
LOCATION:davant del rectorat
URL:https://comitepasl.upc.edu/ca/esdeveniments/convocatoria-concentracio-
 16d
END:VEVENT
BEGIN:VEVENT
SUMMARY:Claustre universitari
DTSTART;TZID=Europe/Madrid:20130416T090000
DTEND;TZID=Europe/Madrid:20130416T140000
DTSTAMP:20260420T061528Z
UID:fb3f7a53-8784-43c3-945a-bbfab3bab0f7@peter2pre.upc.edu:11004
CREATED:20130409T100600Z
LAST-MODIFIED:20130409T143500Z
LOCATION:Auditori - Vèrtex
URL:https://comitepasl.upc.edu/ca/esdeveniments/claustre-universitari
END:VEVENT
BEGIN:VEVENT
SUMMARY:Consell de Govern
DTSTART;TZID=Europe/Madrid:20130424T000000
DTEND;TZID=Europe/Madrid:20130424T000000
DTSTAMP:20260420T061528Z
UID:e6abc5c1-7df2-45d5-b521-bd5037ac20df@peter2pre.upc.edu:11004
CREATED:20130409T143600Z
LAST-MODIFIED:20130423T082200Z
URL:https://comitepasl.upc.edu/ca/esdeveniments/consell-de-govern
END:VEVENT
BEGIN:VTIMEZONE
TZID:Europe/Madrid
X-LIC-LOCATION:Europe/Madrid
BEGIN:DAYLIGHT
DTSTART:20130331T030000
TZNAME:CEST
TZOFFSETFROM:+0100
TZOFFSETTO:+0200
END:DAYLIGHT
BEGIN:STANDARD
DTSTART:20111030T020000
TZNAME:CET
TZOFFSETFROM:+0200
TZOFFSETTO:+0100
END:STANDARD
END:VTIMEZONE
END:VCALENDAR
